BEGIN:VCALENDAR
VERSION:2.0
PRODID:-//Harbour Pointe Golf Club - ECPv6.15.18//NONSGML v1.0//EN
CALSCALE:GREGORIAN
METHOD:PUBLISH
X-WR-CALNAME:Harbour Pointe Golf Club
X-ORIGINAL-URL:https://www.harbourpointegolfclub.com
X-WR-CALDESC:Events for Harbour Pointe Golf Club
REFRESH-INTERVAL;VALUE=DURATION:PT1H
X-Robots-Tag:noindex
X-PUBLISHED-TTL:PT1H
BEGIN:VTIMEZONE
TZID:UTC
BEGIN:STANDARD
TZOFFSETFROM:+0000
TZOFFSETTO:+0000
TZNAME:UTC
DTSTART:20250101T000000
END:STANDARD
END:VTIMEZONE
BEGIN:VEVENT
DTSTART;TZID=UTC:20260607T110000
DTEND;TZID=UTC:20260607T160000
DTSTAMP:20260425T121841
CREATED:20260424T171916Z
LAST-MODIFIED:20260424T171922Z
UID:10000064-1780830000-1780848000@www.harbourpointegolfclub.com
SUMMARY:Sunday Supper
DESCRIPTION:Join us on Sunday\, May 3 from 11 AM to 4 PM for our Sunday Supper\, featuring Spaghetti Bolognese with Garlic Bread. Dine in and enjoy a comforting\, delicious meal.  \n\n\n\nReservations are recommended. \n\n\n\n\nMake Your Reservation
URL:https://www.harbourpointegolfclub.com/event/sunday-supper-5/
END:VEVENT
BEGIN:VEVENT
DTSTART;TZID=UTC:20260606T000000
DTEND;TZID=UTC:20260606T235959
DTSTAMP:20260425T121841
CREATED:20260302T194020Z
LAST-MODIFIED:20260302T194022Z
UID:10000019-1780704000-1780790399@www.harbourpointegolfclub.com
SUMMARY:Phi Beta Sigma Outing
DESCRIPTION:
URL:https://www.harbourpointegolfclub.com/event/phi-beta-sigma-outing/
END:VEVENT
BEGIN:VEVENT
DTSTART;TZID=UTC:20260531T110000
DTEND;TZID=UTC:20260531T160000
DTSTAMP:20260425T121841
CREATED:20260424T171232Z
LAST-MODIFIED:20260424T171237Z
UID:10000063-1780225200-1780243200@www.harbourpointegolfclub.com
SUMMARY:Sunday Supper
DESCRIPTION:Join us on Sunday\, May 3 from 11 AM to 4 PM for our Sunday Supper\, featuring Chicken Parm Marinara with Garlic Bread. Dine in and enjoy a comforting\, delicious meal.  \n\n\n\nReservations are recommended. \n\n\n\n\nMake Your Reservation
URL:https://www.harbourpointegolfclub.com/event/sunday-supper-4/
END:VEVENT
BEGIN:VEVENT
DTSTART;TZID=UTC:20260527T160000
DTEND;TZID=UTC:20260527T210000
DTSTAMP:20260425T121841
CREATED:20260424T175453Z
LAST-MODIFIED:20260424T175459Z
UID:10000069-1779897600-1779915600@www.harbourpointegolfclub.com
SUMMARY:$1 Wings & $2 Mahi Tacos
DESCRIPTION:Join us every Wednesday for $1 Wings and $2 Mahi Tacos! \n\n\n\n\nMake Your Reservation
URL:https://www.harbourpointegolfclub.com/event/1-wings-2-mahi-tacos-4/
END:VEVENT
BEGIN:VEVENT
DTSTART;TZID=UTC:20260524T110000
DTEND;TZID=UTC:20260524T160000
DTSTAMP:20260425T121841
CREATED:20260424T171053Z
LAST-MODIFIED:20260424T171058Z
UID:10000062-1779620400-1779638400@www.harbourpointegolfclub.com
SUMMARY:Sunday Supper
DESCRIPTION:Join us on Sunday\, May 3 from 11 AM to 4 PM for our Sunday Supper\, featuring Shrimp & Penne Alfredo with a Garden Salad. Dine in and enjoy a comforting\, delicious meal.  \n\n\n\nReservations are recommended. \n\n\n\n\nMake Your Reservation
URL:https://www.harbourpointegolfclub.com/event/sunday-supper-3/
END:VEVENT
BEGIN:VEVENT
DTSTART;TZID=UTC:20260523T000000
DTEND;TZID=UTC:20260523T235959
DTSTAMP:20260425T121841
CREATED:20260302T193908Z
LAST-MODIFIED:20260302T193912Z
UID:10000018-1779494400-1779580799@www.harbourpointegolfclub.com
SUMMARY:HPGC Match Play Starts
DESCRIPTION:HPGC Match Play Starts May 23rd. Please call the golf shop to learn more! \n\n\n\n\nContact The Golf Shop
URL:https://www.harbourpointegolfclub.com/event/hpgc-match-play-starts/
END:VEVENT
BEGIN:VEVENT
DTSTART;TZID=UTC:20260520T160000
DTEND;TZID=UTC:20260520T210000
DTSTAMP:20260425T121841
CREATED:20260424T174503Z
LAST-MODIFIED:20260424T174512Z
UID:10000068-1779292800-1779310800@www.harbourpointegolfclub.com
SUMMARY:$1 Wings & $2 Tacos
DESCRIPTION:Join us every Wednesday for $1 Wings and $2 Mahi Tacos! \n\n\n\n\nMake Your Reservation
URL:https://www.harbourpointegolfclub.com/event/1-wings-2-tacos/
END:VEVENT
BEGIN:VEVENT
DTSTART;TZID=UTC:20260520T000000
DTEND;TZID=UTC:20260520T235959
DTSTAMP:20260425T121841
CREATED:20260302T193758Z
LAST-MODIFIED:20260302T193801Z
UID:10000017-1779235200-1779321599@www.harbourpointegolfclub.com
SUMMARY:MGA Silver-Red-Gold
DESCRIPTION:The MGA Silver-Red-Gold is scheduled for May 20th. Please call the golf shop to learn more! \n\n\n\n\nContact The Golf Shop
URL:https://www.harbourpointegolfclub.com/event/mga-silver-red-gold/
END:VEVENT
BEGIN:VEVENT
DTSTART;TZID=UTC:20260517T110000
DTEND;TZID=UTC:20260517T160000
DTSTAMP:20260425T121841
CREATED:20260424T170756Z
LAST-MODIFIED:20260424T170759Z
UID:10000061-1779015600-1779033600@www.harbourpointegolfclub.com
SUMMARY:Sunday Supper
DESCRIPTION:Join us on Sunday\, May 17 from 11 AM to 4 PM for our Sunday Supper\, featuring Florentine Stuffed Shells\, Marinara and Garlic Bread. Dine in and enjoy a comforting\, delicious meal.  \n\n\n\nReservations are recommended. \n\n\n\n\nMake Your Reservation
URL:https://www.harbourpointegolfclub.com/event/sunday-supper-2/
END:VEVENT
BEGIN:VEVENT
DTSTART;TZID=UTC:20260514T180000
DTEND;TZID=UTC:20260514T200000
DTSTAMP:20260425T121841
CREATED:20260424T165424Z
LAST-MODIFIED:20260424T165429Z
UID:10000059-1778781600-1778788800@www.harbourpointegolfclub.com
SUMMARY:Live Music ft. Hoff-N-Fitch
DESCRIPTION:Join us for Live Music featuring Hoff-N-Fitch! Reservations are highly suggested. \n\n\n\n\nMake Your Reservation
URL:https://www.harbourpointegolfclub.com/event/live-music-ft-hoff-n-fitch/
END:VEVENT
BEGIN:VEVENT
DTSTART;TZID=UTC:20260513T160000
DTEND;TZID=UTC:20260513T210000
DTSTAMP:20260425T121841
CREATED:20260424T173839Z
LAST-MODIFIED:20260424T173845Z
UID:10000067-1778688000-1778706000@www.harbourpointegolfclub.com
SUMMARY:$1 Wings & $2 Mahi Tacos
DESCRIPTION:Join us every Wednesday for $1 Wings and $2 Mahi Tacos! \n\n\n\n\nMake Your Reservation
URL:https://www.harbourpointegolfclub.com/event/1-wings-2-mahi-tacos-3/
END:VEVENT
BEGIN:VEVENT
DTSTART;TZID=UTC:20260513T000000
DTEND;TZID=UTC:20260513T235959
DTSTAMP:20260425T121841
CREATED:20260302T193708Z
LAST-MODIFIED:20260302T193712Z
UID:10000016-1778630400-1778716799@www.harbourpointegolfclub.com
SUMMARY:MGA Outing
DESCRIPTION:The MGA Outing is scheduled for May 13th. Please call the golf shop to learn more! \n\n\n\n\nContact The Golf Shop
URL:https://www.harbourpointegolfclub.com/event/mga-outing-3/
END:VEVENT
BEGIN:VEVENT
DTSTART;TZID=UTC:20260512T000000
DTEND;TZID=UTC:20260514T235959
DTSTAMP:20260425T121841
CREATED:20260302T193430Z
LAST-MODIFIED:20260302T193434Z
UID:10000014-1778544000-1778803199@www.harbourpointegolfclub.com
SUMMARY:LGA Presidents Cup
DESCRIPTION:The LGA Presidents Cup Event is scheduled for May 12th & 14th. Please call the golf shop to learn more! \n\n\n\n\nContact The Golf Shop
URL:https://www.harbourpointegolfclub.com/event/lga-presidents-cup/
END:VEVENT
BEGIN:VEVENT
DTSTART;TZID=UTC:20260510T110000
DTEND;TZID=UTC:20260510T200000
DTSTAMP:20260425T121841
CREATED:20260424T154228Z
LAST-MODIFIED:20260424T154232Z
UID:10000056-1778410800-1778443200@www.harbourpointegolfclub.com
SUMMARY:Mother's Day
DESCRIPTION:Join us for Mother’s Day at The Pointe! View our special Mother’s Day Menu and reserve your spot below! \n\n\n\n\n\n\n\n\nReserve Your Spot
URL:https://www.harbourpointegolfclub.com/event/mothers-day-2/
END:VEVENT
BEGIN:VEVENT
DTSTART;TZID=UTC:20260507T180000
DTEND;TZID=UTC:20260507T200000
DTSTAMP:20260425T121841
CREATED:20260424T164517Z
LAST-MODIFIED:20260424T164521Z
UID:10000058-1778176800-1778184000@www.harbourpointegolfclub.com
SUMMARY:Live Music ft. The Bears
DESCRIPTION:Join us for Live Music featuring The Bears! Reservations are highly suggested. \n\n\n\n\nMake Your Reservation
URL:https://www.harbourpointegolfclub.com/event/live-music-ft-the-bears/
END:VEVENT
BEGIN:VEVENT
DTSTART;TZID=UTC:20260506T160000
DTEND;TZID=UTC:20260506T210000
DTSTAMP:20260425T121841
CREATED:20260424T173619Z
LAST-MODIFIED:20260424T173628Z
UID:10000066-1778083200-1778101200@www.harbourpointegolfclub.com
SUMMARY:$1 Wings & $2 Mahi Tacos
DESCRIPTION:Join us every Wednesday for $1 Wings and $2 Mahi Tacos! \n\n\n\n\nMake Your Reservation
URL:https://www.harbourpointegolfclub.com/event/1-wings-2-mahi-tacos-2/
END:VEVENT
BEGIN:VEVENT
DTSTART;TZID=UTC:20260506T000000
DTEND;TZID=UTC:20260506T235959
DTSTAMP:20260425T121841
CREATED:20260302T193619Z
LAST-MODIFIED:20260302T193622Z
UID:10000015-1778025600-1778111999@www.harbourpointegolfclub.com
SUMMARY:MGA Mulligan Mash
DESCRIPTION:The MGA Mulligan Mash is scheduled for May 6th. Please call the golf shop to learn more! \n\n\n\n\nContact The Golf Shop
URL:https://www.harbourpointegolfclub.com/event/mga-mulligan-mash/
END:VEVENT
BEGIN:VEVENT
DTSTART;TZID=UTC:20260503T110000
DTEND;TZID=UTC:20260503T160000
DTSTAMP:20260425T121841
CREATED:20260424T170251Z
LAST-MODIFIED:20260424T170256Z
UID:10000060-1777806000-1777824000@www.harbourpointegolfclub.com
SUMMARY:Sunday Supper
DESCRIPTION:Join us on Sunday\, May 3 from 11 AM to 4 PM for our Sunday Supper\, featuring chicken and rigatoni alla vodka served with a fresh garden salad. Dine in and enjoy a comforting\, delicious meal.  \n\n\n\nReservations are recommended. \n\n\n\n\nMake Your Reservation
URL:https://www.harbourpointegolfclub.com/event/sunday-supper/
END:VEVENT
BEGIN:VEVENT
DTSTART;TZID=UTC:20260430T180000
DTEND;TZID=UTC:20260430T200000
DTSTAMP:20260425T121841
CREATED:20260424T164228Z
LAST-MODIFIED:20260424T164553Z
UID:10000057-1777572000-1777579200@www.harbourpointegolfclub.com
SUMMARY:Live Music ft. Smokehouse
DESCRIPTION:Join us for Live Music featuring Smokehouse! Reservations are highly suggested. \n\n\n\n\nMake Your Reservation
URL:https://www.harbourpointegolfclub.com/event/live-music-ft-smokehouse/
END:VEVENT
BEGIN:VEVENT
DTSTART;TZID=UTC:20260429T160000
DTEND;TZID=UTC:20260429T210000
DTSTAMP:20260425T121841
CREATED:20260424T173448Z
LAST-MODIFIED:20260424T173453Z
UID:10000065-1777478400-1777496400@www.harbourpointegolfclub.com
SUMMARY:$1 Wings & $2 Mahi Tacos
DESCRIPTION:Join us every Wednesday for $1 Wings and $2 Mahi Tacos! \n\n\n\n\nMake Your Reservation
URL:https://www.harbourpointegolfclub.com/event/1-wings-2-mahi-tacos/
END:VEVENT
BEGIN:VEVENT
DTSTART;TZID=UTC:20260425T000000
DTEND;TZID=UTC:20260425T235959
DTSTAMP:20260425T121841
CREATED:20260302T193228Z
LAST-MODIFIED:20260302T193318Z
UID:10000013-1777075200-1777161599@www.harbourpointegolfclub.com
SUMMARY:Member-Member
DESCRIPTION:The Member-Member is scheduled for April 25th. Please call the golf shop to learn more! \n\n\n\n\nContact The Golf Shop
URL:https://www.harbourpointegolfclub.com/event/member-member/
END:VEVENT
BEGIN:VEVENT
DTSTART;TZID=UTC:20260423T183000
DTEND;TZID=UTC:20260423T203000
DTSTAMP:20260425T121841
CREATED:20260417T150236Z
LAST-MODIFIED:20260417T150241Z
UID:10000050-1776969000-1776976200@www.harbourpointegolfclub.com
SUMMARY:April Live Music
DESCRIPTION:Join us for April Live Music featuring The Scallywags! Reservations are highly suggested. \n\n\n\n\nMake Your Reservation
URL:https://www.harbourpointegolfclub.com/event/april-live-music/
END:VEVENT
BEGIN:VEVENT
DTSTART;TZID=UTC:20260422T180000
DTEND;TZID=UTC:20260422T200000
DTSTAMP:20260425T121841
CREATED:20260417T154232Z
LAST-MODIFIED:20260417T154315Z
UID:10000051-1776880800-1776888000@www.harbourpointegolfclub.com
SUMMARY:Trivia Night
DESCRIPTION:Join us for Trivia Night at The Pointe Restaurant! \n\n\n\nRegistration begins at 5:30. Trivia begins at 6:00pm \n\n\n\n\nMore Information
URL:https://www.harbourpointegolfclub.com/event/trivia-night/
END:VEVENT
BEGIN:VEVENT
DTSTART;TZID=UTC:20260418T000000
DTEND;TZID=UTC:20260418T235959
DTSTAMP:20260425T121841
CREATED:20260302T193125Z
LAST-MODIFIED:20260302T193129Z
UID:10000012-1776470400-1776556799@www.harbourpointegolfclub.com
SUMMARY:MGA MatchUP Madness
DESCRIPTION:The MGA MatchUP Madness is scheduled for April 18th. Please call the golf shop to learn more! \n\n\n\n\nContact The Golf Shop
URL:https://www.harbourpointegolfclub.com/event/mga-matchup-madness/
END:VEVENT
BEGIN:VEVENT
DTSTART;TZID=UTC:20260416T183000
DTEND;TZID=UTC:20260416T203000
DTSTAMP:20260425T121841
CREATED:20260417T154932Z
LAST-MODIFIED:20260417T155016Z
UID:10000053-1776364200-1776371400@www.harbourpointegolfclub.com
SUMMARY:April Live Music
DESCRIPTION:Join us for April Live Music featuring Justin Castellano! Reservations are highly suggested. \n\n\n\n\nMake Your Reservation
URL:https://www.harbourpointegolfclub.com/event/april-live-music-2/
END:VEVENT
BEGIN:VEVENT
DTSTART;TZID=UTC:20260415T000000
DTEND;TZID=UTC:20260415T235959
DTSTAMP:20260425T121841
CREATED:20260302T193035Z
LAST-MODIFIED:20260302T193038Z
UID:10000011-1776211200-1776297599@www.harbourpointegolfclub.com
SUMMARY:MGA Outing
DESCRIPTION:The MGA Outing is scheduled for April 15th. Please call the golf shop to learn more! \n\n\n\n\nContact The Golf Shop
URL:https://www.harbourpointegolfclub.com/event/mga-outing-2/
END:VEVENT
BEGIN:VEVENT
DTSTART;TZID=UTC:20260414T000000
DTEND;TZID=UTC:20260414T235959
DTSTAMP:20260425T121841
CREATED:20260302T192958Z
LAST-MODIFIED:20260302T193002Z
UID:10000010-1776124800-1776211199@www.harbourpointegolfclub.com
SUMMARY:Tidewater Seniors
DESCRIPTION:The Tidewater Seniors Event is scheduled for April 14th. Please call the golf shop to learn more! \n\n\n\n\nContact The Golf Shop
URL:https://www.harbourpointegolfclub.com/event/tidewater-seniors/
END:VEVENT
BEGIN:VEVENT
DTSTART;TZID=UTC:20260411T000000
DTEND;TZID=UTC:20260411T235959
DTSTAMP:20260425T121841
CREATED:20260302T192409Z
LAST-MODIFIED:20260302T192438Z
UID:10000009-1775865600-1775951999@www.harbourpointegolfclub.com
SUMMARY:Masters Event
DESCRIPTION:The Master’s Event is scheduled for April 11th. Please call the golf shop to learn more! \n\n\n\n\nContact The Golf Shop
URL:https://www.harbourpointegolfclub.com/event/masters-event/
END:VEVENT
BEGIN:VEVENT
DTSTART;TZID=UTC:20260409T183000
DTEND;TZID=UTC:20260409T203000
DTSTAMP:20260425T121841
CREATED:20260417T155208Z
LAST-MODIFIED:20260417T155214Z
UID:10000054-1775759400-1775766600@www.harbourpointegolfclub.com
SUMMARY:April Live Music
DESCRIPTION:Join us for April Live Music featuring Dan Jam Phillips! Reservations are highly suggested. \n\n\n\n\nMake Your Reservation
URL:https://www.harbourpointegolfclub.com/event/april-live-music-3/
END:VEVENT
BEGIN:VEVENT
DTSTART;TZID=UTC:20260408T180000
DTEND;TZID=UTC:20260408T200000
DTSTAMP:20260425T121841
CREATED:20260417T154645Z
LAST-MODIFIED:20260417T154650Z
UID:10000052-1775671200-1775678400@www.harbourpointegolfclub.com
SUMMARY:Trivia Night
DESCRIPTION:Join us for Trivia Night at The Pointe Restaurant! \n\n\n\nRegistration begins at 5:30. Trivia begins at 6:00pm \n\n\n\n\nMore Information
URL:https://www.harbourpointegolfclub.com/event/trivia-night-2/
END:VEVENT
END:VCALENDAR